BEGIN:VCALENDAR
VERSION:2.0
PRODID:-//Food Fairness Illawarra - ECPv5.16.1.1//NONSGML v1.0//EN
CALSCALE:GREGORIAN
METHOD:PUBLISH
X-WR-CALNAME:Food Fairness Illawarra
X-ORIGINAL-URL:https://foodfairnessillawarra.org.au
X-WR-CALDESC:Events for Food Fairness Illawarra
BEGIN:VTIMEZONE
TZID:Australia/Sydney
BEGIN:STANDARD
TZOFFSETFROM:+1100
TZOFFSETTO:+1000
TZNAME:AEST
DTSTART:20210403T160000
END:STANDARD
BEGIN:DAYLIGHT
TZOFFSETFROM:+1000
TZOFFSETTO:+1100
TZNAME:AEDT
DTSTART:20211002T160000
END:DAYLIGHT
END:VTIMEZONE
BEGIN:VEVENT
DTSTART;VALUE=DATE:20210315
DTEND;VALUE=DATE:20210320
DTSTAMP:20260426T000353
CREATED:20210302T031413Z
LAST-MODIFIED:20210302T031413Z
UID:4209-1615766400-1616198399@foodfairnessillawarra.org.au
SUMMARY:Cultural Treasures Multicultural Festival
DESCRIPTION:Cultural Treasures Multicultural Festival is on again\, celebrating Shellharbour’s cultural diversity during Harmony Week 2021. \nBe a part of the official opening with Aboriginal Welcome to Country and traditional cultural dance with Gumaraa Aboriginal experience\, starting from 9:30am. \nActivities held at Shellharbour Civic Centre will include Aboriginal performances\, story time and craft\, African bead bracelet workshop\, movie screening of ‘Alex & Eve’\, Indian cooking class\, Mexican Mariachi and breadmaking workshop and a performance by ‘The Voice’ finalist Masha Mnjovan and Sako Dermerjian. \nAll activities are free & bookings are essential.
URL:https://foodfairnessillawarra.org.au/event/cultural-treasures-multicultural-festival/
LOCATION:Shellharbour Civic Centre\, 76 Cygnet Avenue\, Shellharbour City Centre\, 2529
CATEGORIES:Community Catchup,Community Connections,Markets,Workshop
ATTACH;FMTTYPE=image/png:https://foodfairnessillawarra.org.au/wp-content/uploads/2021/03/Website-Events-thumbnails-600-x-800-2.png
ORGANIZER;CN="Shellharbour%20City%20Council":MAILTO:council@shellharbour.nsw.gov.au
END:VEVENT
BEGIN:VEVENT
DTSTART;TZID=Australia/Sydney:20210318T113000
DTEND;TZID=Australia/Sydney:20210318T133000
DTSTAMP:20260426T000353
CREATED:20210302T032137Z
LAST-MODIFIED:20210302T032137Z
UID:4212-1616067000-1616074200@foodfairnessillawarra.org.au
SUMMARY:'Jam & Bread' Workshop
DESCRIPTION:Join Jam n Bread for a trip to Mexico! \nAn interactive cultural celebration connecting culture through making music & bread. \nThe workshop includes jamming with Gerardo Montoya\, who invites you jam along with him playing Mexican Mariachi music. \nThere will also be a South American bread making workshop with SALCO\, where dough will be supplied\, just bring an apron and your sense of adventure! \nBooking essential!
URL:https://foodfairnessillawarra.org.au/event/jam-bread-workshop/
LOCATION:Shellharbour Civic Centre\, 76 Cygnet Avenue\, Shellharbour City Centre\, 2529
CATEGORIES:Community Connections,Workshop
ATTACH;FMTTYPE=image/png:https://foodfairnessillawarra.org.au/wp-content/uploads/2021/03/Website-Events-thumbnails-600-x-800-2.png
ORGANIZER;CN="Shellharbour%20City%20Council":MAILTO:council@shellharbour.nsw.gov.au
END:VEVENT
END:VCALENDAR