BEGIN:VCALENDAR
VERSION:2.0
PRODID:-//Food Fairness Illawarra - ECPv5.16.1.1//NONSGML v1.0//EN
CALSCALE:GREGORIAN
METHOD:PUBLISH
X-WR-CALNAME:Food Fairness Illawarra
X-ORIGINAL-URL:https://foodfairnessillawarra.org.au
X-WR-CALDESC:Events for Food Fairness Illawarra
BEGIN:VTIMEZONE
TZID:Australia/Sydney
BEGIN:STANDARD
TZOFFSETFROM:+1100
TZOFFSETTO:+1000
TZNAME:AEST
DTSTART:20210403T160000
END:STANDARD
BEGIN:DAYLIGHT
TZOFFSETFROM:+1000
TZOFFSETTO:+1100
TZNAME:AEDT
DTSTART:20211002T160000
END:DAYLIGHT
END:VTIMEZONE
BEGIN:VEVENT
DTSTART;TZID=Australia/Sydney:20210320T133000
DTEND;TZID=Australia/Sydney:20210320T170000
DTSTAMP:20260425T210751
CREATED:20210209T003940Z
LAST-MODIFIED:20210209T003940Z
UID:4110-1616247000-1616259600@foodfairnessillawarra.org.au
SUMMARY:Wild Edible Foraging with Diego Bonetto
DESCRIPTION:Take a walk around the natural spaces at the Green Connect Farm and discover the edible and medicinal plants that grow around you. Learn about folk knowledge\, traditional uses and current debates about weeds and their uses.
URL:https://foodfairnessillawarra.org.au/event/wild-edible-foraging-with-diego-bonetto/
LOCATION:Green Connect Farm\, 6 Anna Avenue\, Warrawong\, NSW\, 2502
CATEGORIES:Education,Workshop
ATTACH;FMTTYPE=image/png:https://foodfairnessillawarra.org.au/wp-content/uploads/2020/10/Website-Events-Green-Connect-Workshop-600-x-800-1.png
END:VEVENT
END:VCALENDAR