BEGIN:VCALENDAR
VERSION:2.0
PRODID:-//Food Fairness Illawarra - ECPv5.16.1.1//NONSGML v1.0//EN
CALSCALE:GREGORIAN
METHOD:PUBLISH
X-WR-CALNAME:Food Fairness Illawarra
X-ORIGINAL-URL:https://foodfairnessillawarra.org.au
X-WR-CALDESC:Events for Food Fairness Illawarra
BEGIN:VTIMEZONE
TZID:Australia/Sydney
BEGIN:STANDARD
TZOFFSETFROM:+1100
TZOFFSETTO:+1000
TZNAME:AEST
DTSTART:20210403T160000
END:STANDARD
BEGIN:DAYLIGHT
TZOFFSETFROM:+1000
TZOFFSETTO:+1100
TZNAME:AEDT
DTSTART:20211002T160000
END:DAYLIGHT
END:VTIMEZONE
BEGIN:VEVENT
DTSTART;TZID=Australia/Sydney:20210324T100000
DTEND;TZID=Australia/Sydney:20210505T143000
DTSTAMP:20260423T033057
CREATED:20201103T003638Z
LAST-MODIFIED:20201103T003638Z
UID:3013-1616580000-1620225000@foodfairnessillawarra.org.au
SUMMARY:Environmental Education (8 session course) - March 2021
DESCRIPTION:This course has been designed for people interested in creating change for sustainability through education and communication. Run by CERES Community Environment Park\,  this workshop will take you through experiential approaches to environmental education and effective ways to change behaviours and take action for sustainability over 8-weeks.
URL:https://foodfairnessillawarra.org.au/event/environmental-education-8-session-course-march-2021/
LOCATION:Online Event
CATEGORIES:Education,Workshop
ATTACH;FMTTYPE=image/png:https://foodfairnessillawarra.org.au/wp-content/uploads/2020/11/Website-Events-thumbnails-600-x-800-3.png
ORGANIZER;CN="CERES%20Community%20Environment%20Park":MAILTO:ceres@ceres.org.au
END:VEVENT
BEGIN:VEVENT
DTSTART;TZID=Australia/Sydney:20210403T090000
DTEND;TZID=Australia/Sydney:20210403T223000
DTSTAMP:20260423T033057
CREATED:20210316T020842Z
LAST-MODIFIED:20210323T045046Z
UID:4282-1617440400-1617489000@foodfairnessillawarra.org.au
SUMMARY:URBAN AGRICULTURE MONTH: Green Connect Farm Tour (Adults)
DESCRIPTION:On this 75-minute tour\, you will explore our abundant market gardens where we grow the majority of our seasonal veggies and walk through our food forest that is slowly producing fruit. You’ll also visit our regenerated rainforest zone and get up close to our free-range sheep\, goats\, pigs and/or chickens.\n\n\n\nURBAN AGRICULTURE MONTH\nUrban Agriculture Month (UAM) is co-ordinated yearly by Sustain: The Australian Food Network\, a think and do network connecting passionate people like you to build tangible change. Urban Agriculture Month encourages enthusiastic gardeners\, activisits\, farmers\, researchers and consumers from around Australia come together to celebrate and promote urban agriculture as an important part of community resilience and well-being. Click here for more information \n\n\nAs part of Urban Agriculture Month 2021\, Food Fairness Illawarra is coordinating a range of open gardens and garden tours of urban farms and gardens across the Illawarra. \nClick here for all events UAM events in the Illawarra.
URL:https://foodfairnessillawarra.org.au/event/adult-farm-tour/
LOCATION:Green Connect Farm\, 6 Anna Avenue\, Warrawong\, NSW\, 2502
CATEGORIES:Education,Tour,Urban Agriculture Month 2021,Workshop
ATTACH;FMTTYPE=image/png:https://foodfairnessillawarra.org.au/wp-content/uploads/2021/03/15-1.png
END:VEVENT
BEGIN:VEVENT
DTSTART;TZID=Australia/Sydney:20210403T100000
DTEND;TZID=Australia/Sydney:20210403T140000
DTSTAMP:20260423T033057
CREATED:20210216T022525Z
LAST-MODIFIED:20210216T031259Z
UID:4138-1617444000-1617458400@foodfairnessillawarra.org.au
SUMMARY:Cheese Larder with Kristen Allen
DESCRIPTION:Artisan cheesemaker Kristen Allan is joining Moonacres School for regular cheesemaking classes in the purpose-built cooking and learning space.
URL:https://foodfairnessillawarra.org.au/event/cheese-larder-with-kristen-allen/2021-04-03/
LOCATION:Moonacres\, 76 Illawarra Hwy\, Robertson\, NSW\, 2577\, Australia
CATEGORIES:Workshop
ATTACH;FMTTYPE=image/png:https://foodfairnessillawarra.org.au/wp-content/uploads/2021/02/Website-Events-thumbnails-600-x-800-4.png
END:VEVENT
BEGIN:VEVENT
DTSTART;TZID=Australia/Sydney:20210403T110000
DTEND;TZID=Australia/Sydney:20210403T120000
DTSTAMP:20260423T033057
CREATED:20210316T021322Z
LAST-MODIFIED:20210323T045324Z
UID:4284-1617447600-1617451200@foodfairnessillawarra.org.au
SUMMARY:URBAN AGRICULTURE MONTH: Green Connect Family Farm Tour
DESCRIPTION:These 60-minute tours are fun and interactive for the whole family! We’ll get hands-on as we explore our 11-acre permaculture farm\, including market gardens where we grow the majority of our produce and food forest which is slowly producing fruit. We’ll also search for our free-range sheep\, goats\, pigs\, and chickens to offer a tasty snack.\n\n\n\n\nURBAN AGRICULTURE MONTH\nUrban Agriculture Month (UAM) is co-ordinated yearly by Sustain: The Australian Food Network\, a think and do network connecting passionate people like you to build tangible change. Urban Agriculture Month encourages enthusiastic gardeners\, activisits\, farmers\, researchers and consumers from around Australia come together to celebrate and promote urban agriculture as an important part of community resilience and well-being. Click here for more information \n\n\nAs part of Urban Agriculture Month 2021\, Food Fairness Illawarra is coordinating a range of open gardens and garden tours of urban farms and gardens across the Illawarra. \nClick here for all events UAM events in the Illawarra.
URL:https://foodfairnessillawarra.org.au/event/family-farm-tour-2/
LOCATION:Green Connect Farm\, 6 Anna Avenue\, Warrawong\, NSW\, 2502
CATEGORIES:Education,Physical Activity,Tour,Urban Agriculture Month 2021
ATTACH;FMTTYPE=image/png:https://foodfairnessillawarra.org.au/wp-content/uploads/2021/03/13.png
END:VEVENT
END:VCALENDAR