BEGIN:VCALENDAR
VERSION:2.0
PRODID:-//Food Fairness Illawarra - ECPv5.16.1.1//NONSGML v1.0//EN
CALSCALE:GREGORIAN
METHOD:PUBLISH
X-WR-CALNAME:Food Fairness Illawarra
X-ORIGINAL-URL:https://foodfairnessillawarra.org.au
X-WR-CALDESC:Events for Food Fairness Illawarra
BEGIN:VTIMEZONE
TZID:Australia/Sydney
BEGIN:STANDARD
TZOFFSETFROM:+1100
TZOFFSETTO:+1000
TZNAME:AEST
DTSTART:20210403T160000
END:STANDARD
BEGIN:DAYLIGHT
TZOFFSETFROM:+1000
TZOFFSETTO:+1100
TZNAME:AEDT
DTSTART:20211002T160000
END:DAYLIGHT
END:VTIMEZONE
BEGIN:VEVENT
DTSTART;TZID=Australia/Sydney:20210324T100000
DTEND;TZID=Australia/Sydney:20210505T143000
DTSTAMP:20260423T033656
CREATED:20201103T003638Z
LAST-MODIFIED:20201103T003638Z
UID:3013-1616580000-1620225000@foodfairnessillawarra.org.au
SUMMARY:Environmental Education (8 session course) - March 2021
DESCRIPTION:This course has been designed for people interested in creating change for sustainability through education and communication. Run by CERES Community Environment Park\,  this workshop will take you through experiential approaches to environmental education and effective ways to change behaviours and take action for sustainability over 8-weeks.
URL:https://foodfairnessillawarra.org.au/event/environmental-education-8-session-course-march-2021/
LOCATION:Online Event
CATEGORIES:Education,Workshop
ATTACH;FMTTYPE=image/png:https://foodfairnessillawarra.org.au/wp-content/uploads/2020/11/Website-Events-thumbnails-600-x-800-3.png
ORGANIZER;CN="CERES%20Community%20Environment%20Park":MAILTO:ceres@ceres.org.au
END:VEVENT
BEGIN:VEVENT
DTSTART;TZID=Australia/Sydney:20210417T083000
DTEND;TZID=Australia/Sydney:20210417T223000
DTSTAMP:20260423T033656
CREATED:20210323T040120Z
LAST-MODIFIED:20210323T044336Z
UID:4301-1618648200-1618698600@foodfairnessillawarra.org.au
SUMMARY:URBAN AGRICULTURE MONTH: Woonona Community Garden Open Day!
DESCRIPTION:Woonona Community Garden is a communal garden where members come together to grow fruit\, vegetables\, flowers and herbs using sustainable methods. We emphasise fun\, cooperation\, community pride and shared learning. \nCome visit us on our Saturday working bee where we garden\, chat and share morning tea together\, we’d love to meet you! \n  \n\nURBAN AGRICULTURE MONTH\nUrban Agriculture Month (UAM) is co-ordinated yearly by Sustain: The Australian Food Network\, a think and do network connecting passionate people like you to build tangible change. Urban Agriculture Month encourages enthusiastic gardeners\, activisits\, farmers\, researchers and consumers from around Australia come together to celebrate and promote urban agriculture as an important part of community resilience and well-being. Click here for more information \n\n\nAs part of Urban Agriculture Month 2021\, Food Fairness Illawarra is coordinating a range of open gardens and garden tours of urban farms and gardens across the Illawarra. \nClick here for all events UAM events in the Illawarra.
URL:https://foodfairnessillawarra.org.au/event/urban-agriculture-month-woonona-community-garden-open-day/
LOCATION:Woonona Community Garden\, Lot 112 Carrington St.\, Woonona\, NSW\, 2517\, Australia
CATEGORIES:Tour,Urban Agriculture Month 2021
ATTACH;FMTTYPE=image/png:https://foodfairnessillawarra.org.au/wp-content/uploads/2021/03/5-1.png
ORGANIZER;CN="Woonona%20Community%20Gardens":MAILTO:aakriti.chhetri1@gmail.com
END:VEVENT
BEGIN:VEVENT
DTSTART;TZID=Australia/Sydney:20210417T090000
DTEND;TZID=Australia/Sydney:20210417T170000
DTSTAMP:20260423T033656
CREATED:20210316T022048Z
LAST-MODIFIED:20210323T061430Z
UID:4288-1618650000-1618678800@foodfairnessillawarra.org.au
SUMMARY:URBAN AGRICULTURE MONTH: In Depth Beekeeping
DESCRIPTION:Are you fascinated by the art of beekeeping and keen to gain the skills required to start your own hive?\n\nIn this full day workshop\, Claire Brown from Flametree Beekepers will give you the knowledge and skills required to get you started as a backyard beekeeper.\n\nThe workshop will include a morning of theory and\, weather permitting\, an afternoon of hands-on\, practical learning at our display hive. Specifically\, your workshop will include:\n\nTheory –\n-The life cycle of bees\n-The roles of different bees in the hive\n-Obtaining beehives\n-Ideal hive placement\n-Hive types and their characteristics\n-Bee diseases – how to spot them\n-Swarming\n\nPractical –\n-Inspecting a beehive\n-Managing your space\n-Finding evidence of a queen bee\n-Essential beekeeping resources\n-Brood management\n-Extracting honey\n\nThis workshop will build on the topics covered in the Intro to Beekeeping workshop\, however you do NOT have to complete the intro workshop in order to book into the In depth workshop.\n\n\n\n\nURBAN AGRICULTURE MONTH\nUrban Agriculture Month (UAM) is co-ordinated yearly by Sustain: The Australian Food Network\, a think and do network connecting passionate people like you to build tangible change. Urban Agriculture Month encourages enthusiastic gardeners\, activisits\, farmers\, researchers and consumers from around Australia come together to celebrate and promote urban agriculture as an important part of community resilience and well-being. Click here for more information \n\n\nAs part of Urban Agriculture Month 2021\, Food Fairness Illawarra is coordinating a range of open gardens and garden tours of urban farms and gardens across the Illawarra. \nClick here for all events UAM events in the Illawarra.
URL:https://foodfairnessillawarra.org.au/event/in-depth-beekeeping-with-claire-brown/
LOCATION:Green Connect Farm\, 6 Anna Avenue\, Warrawong\, NSW\, 2502
CATEGORIES:Education,Urban Agriculture Month 2021,Workshop
ATTACH;FMTTYPE=image/png:https://foodfairnessillawarra.org.au/wp-content/uploads/2021/03/11.png
END:VEVENT
BEGIN:VEVENT
DTSTART;TZID=Australia/Sydney:20210417T093000
DTEND;TZID=Australia/Sydney:20210417T103000
DTSTAMP:20260423T033656
CREATED:20210329T235452Z
LAST-MODIFIED:20210329T235452Z
UID:4348-1618651800-1618655400@foodfairnessillawarra.org.au
SUMMARY:URBAN AGRICULTURE MONTH: Green Connect Family Farm Tour
DESCRIPTION:These 60-minute tours are fun and interactive for the whole family! We’ll get hands-on as we explore our 11-acre permaculture farm\, including market gardens where we grow the majority of our produce and food forest which is slowly producing fruit. We’ll also search for our free-range sheep\, goats\, pigs\, and chickens to offer a tasty snack.\n\n\n\n\nURBAN AGRICULTURE MONTH\nUrban Agriculture Month (UAM) is co-ordinated yearly by Sustain: The Australian Food Network\, a think and do network connecting passionate people like you to build tangible change. Urban Agriculture Month encourages enthusiastic gardeners\, activisits\, farmers\, researchers and consumers from around Australia come together to celebrate and promote urban agriculture as an important part of community resilience and well-being. Click here for more information \n\n\nAs part of Urban Agriculture Month 2021\, Food Fairness Illawarra is coordinating a range of open gardens and garden tours of urban farms and gardens across the Illawarra. \nClick here for all events UAM events in the Illawarra.
URL:https://foodfairnessillawarra.org.au/event/urban-agriculture-month-green-connect-family-farm-tour-4/
LOCATION:Green Connect Farm\, 6 Anna Avenue\, Warrawong\, NSW\, 2502
CATEGORIES:Community Connections,Tour,Urban Agriculture Month 2021
ATTACH;FMTTYPE=image/png:https://foodfairnessillawarra.org.au/wp-content/uploads/2021/03/13.png
END:VEVENT
BEGIN:VEVENT
DTSTART;TZID=Australia/Sydney:20210417T100000
DTEND;TZID=Australia/Sydney:20210417T113000
DTSTAMP:20260423T033656
CREATED:20210323T032436Z
LAST-MODIFIED:20210323T044440Z
UID:4295-1618653600-1618659000@foodfairnessillawarra.org.au
SUMMARY:URBAN AGRICULTURE MONTH: Get Growing!
DESCRIPTION:Like some herbs or a few salad leaves to lift that meal without trekking all the way to the supermarket?\nJoin Sarah on a tour of Popes Produce market garden  for some inspiration\, tips and treats to get you growing luscious leaves for yourself. \nTicket price includes light refreshment & seedlings to get you started. \n(*SPECIAL PRICE FOR URBAN AGRICULTURE MONTH!) \nClick here to book your tickets \n  \n\nURBAN AGRICULTURE MONTH\nUrban Agriculture Month (UAM) is co-ordinated yearly by Sustain: The Australian Food Network\, a think and do network connecting passionate people like you to build tangible change. Urban Agriculture Month encourages enthusiastic gardeners\, activisits\, farmers\, researchers and consumers from around Australia come together to celebrate and promote urban agriculture as an important part of community resilience and well-being. Click here for more information \n\n\nAs part of Urban Agriculture Month 2021\, Food Fairness Illawarra is coordinating a range of open gardens and garden tours of urban farms and gardens across the Illawarra. \nClick here for all events UAM events in the Illawarra.
URL:https://foodfairnessillawarra.org.au/event/urban-agriculture-month-get-growing/
LOCATION:Popes Produce HQ\, Popes Road\, Woonona
CATEGORIES:Tour,Urban Agriculture Month 2021
ATTACH;FMTTYPE=image/png:https://foodfairnessillawarra.org.au/wp-content/uploads/2021/03/17.png
END:VEVENT
BEGIN:VEVENT
DTSTART;TZID=Australia/Sydney:20210417T110000
DTEND;TZID=Australia/Sydney:20210417T121500
DTSTAMP:20260423T033656
CREATED:20210329T233101Z
LAST-MODIFIED:20210329T234014Z
UID:4338-1618657200-1618661700@foodfairnessillawarra.org.au
SUMMARY:URBAN AGRICULTURE MONTH: Green Connect Farm Tour (Adults)
DESCRIPTION:On this 75-minute tour\, you will explore our abundant market gardens where we grow the majority of our seasonal veggies and walk through our food forest that is slowly producing fruit. You’ll also visit our regenerated rainforest zone and get up close to our free-range sheep\, goats\, pigs and/or chickens.\n\n\n\nURBAN AGRICULTURE MONTH\nUrban Agriculture Month (UAM) is co-ordinated yearly by Sustain: The Australian Food Network\, a think and do network connecting passionate people like you to build tangible change. Urban Agriculture Month encourages enthusiastic gardeners\, activisits\, farmers\, researchers and consumers from around Australia come together to celebrate and promote urban agriculture as an important part of community resilience and well-being. Click here for more information \n\n\nAs part of Urban Agriculture Month 2021\, Food Fairness Illawarra is coordinating a range of open gardens and garden tours of urban farms and gardens across the Illawarra. \nClick here for all events UAM events in the Illawarra.
URL:https://foodfairnessillawarra.org.au/event/urban-agriculture-month-green-connect-farm-tour-adults/
LOCATION:Green Connect Farm\, 6 Anna Avenue\, Warrawong\, NSW\, 2502
ATTACH;FMTTYPE=image/png:https://foodfairnessillawarra.org.au/wp-content/uploads/2021/03/15-1.png
END:VEVENT
END:VCALENDAR