BEGIN:VCALENDAR
VERSION:2.0
PRODID:-//Food Fairness Illawarra - ECPv5.16.1.1//NONSGML v1.0//EN
CALSCALE:GREGORIAN
METHOD:PUBLISH
X-WR-CALNAME:Food Fairness Illawarra
X-ORIGINAL-URL:https://foodfairnessillawarra.org.au
X-WR-CALDESC:Events for Food Fairness Illawarra
BEGIN:VTIMEZONE
TZID:Australia/Sydney
BEGIN:STANDARD
TZOFFSETFROM:+1100
TZOFFSETTO:+1000
TZNAME:AEST
DTSTART:20220402T160000
END:STANDARD
BEGIN:DAYLIGHT
TZOFFSETFROM:+1000
TZOFFSETTO:+1100
TZNAME:AEDT
DTSTART:20221001T160000
END:DAYLIGHT
END:VTIMEZONE
BEGIN:VEVENT
DTSTART;VALUE=DATE:20220903
DTEND;VALUE=DATE:20220926
DTSTAMP:20260423T174503
CREATED:20220627T021333Z
LAST-MODIFIED:20220627T021333Z
UID:6617-1662163200-1664150399@foodfairnessillawarra.org.au
SUMMARY:Spin Fest 2022
DESCRIPTION:As the world’s best cyclists arrive in Wollongong for the UCI Road World Championships\, wollongong will come alive with a free program of live music\, art\, entertainment\, food\, fun and of course… cycling! \nProudly produced by Wollongong City Council\, the program will have something for everyone – from BMX to beach parties. \n“While FFI takes every reasonable effort to ensure that information is correct at the time of publication\, we recommend that the individual confirm details with the event organiser\, as events can be subject to last minute changes.”
URL:https://foodfairnessillawarra.org.au/event/spin-fest-2022/
LOCATION:Wollongong
CATEGORIES:Community Connections,Festival
ATTACH;FMTTYPE=image/jpeg:https://foodfairnessillawarra.org.au/wp-content/uploads/2022/06/Spin-Fest-street-signs.jpg
END:VEVENT
BEGIN:VEVENT
DTSTART;TZID=Australia/Sydney:20220919T190000
DTEND;TZID=Australia/Sydney:20220919T203000
DTSTAMP:20260423T174503
CREATED:20220913T034031Z
LAST-MODIFIED:20220913T034031Z
UID:6889-1663614000-1663619400@foodfairnessillawarra.org.au
SUMMARY:Morag's Permaculture Film Club with Happen Films
DESCRIPTION:Event Description\nJoin for September Permaculture Film Club with Antoinette Wilson and Jordan Osmond – the brilliant\, creative duo behind Happen Films to chat about their latest documentary Together We Grow (40 mins) which will be live streamed at Film Club. \nBut first\, a screening of one of their short films\, Hua Parakore: Living Indigenous Food Sovereignty (8:39 mins). \nAbout Hua Parakore-Living Indigenous Food Sovereignty:\nProvides a framework using Indigenous values – Māori principles – for producing natural food without chemical inputs or GMO. It also encapsulates the Māori worldview in its approach to how food growers are verified as Hua Parakore\, with principles that require practitioners to deeply consider such things as their connection with the land\, its energy\, the many species living on it\, and their community. \nAbout Together We Grow:\nTells the story of Common Unity. Common Unity is a thriving hub helping to build resilience into its local community by growing\, sewing\, repairing\, sharing – you name it. Common Unity founder Julia Milne and her team have created a completely shareable model for developing strong\, connected\, resilient communities – a model that could be put in place across thousands of communities in Aotearoa and millions of communities across the world.  They’ve proven it can be done\, this film was made to help them share the story! \nFILM CLUB HOST: MORAG GAMBLE\nMorag Gamble is a global permaculture ambassador\, speaker\, educator\, mentor and true0based philanthropist. She founded the permaculture education Institute\, curates a blog and youtube-Our Permaculture Life\, leads the Ethos Foundation Charity\, and hosts the Sense-Making in a Changing World Podcast\, plus this monthly Permaculture Film Club and Permaculture Masterclasses. \n“While FFI takes every reasonable effort to ensure that information is correct at the time of publication\, we recommend that the individual confirm details with the event organiser\, as events can be subject to last minute changes.” \n  \n 
URL:https://foodfairnessillawarra.org.au/event/morags-permaculture-film-club-with-happen-films/
LOCATION:Online Event
END:VEVENT
END:VCALENDAR