BEGIN:VCALENDAR
VERSION:2.0
PRODID:-//Food Fairness Illawarra - ECPv5.16.1.1//NONSGML v1.0//EN
CALSCALE:GREGORIAN
METHOD:PUBLISH
X-WR-CALNAME:Food Fairness Illawarra
X-ORIGINAL-URL:https://foodfairnessillawarra.org.au
X-WR-CALDESC:Events for Food Fairness Illawarra
BEGIN:VTIMEZONE
TZID:Australia/Sydney
BEGIN:STANDARD
TZOFFSETFROM:+1100
TZOFFSETTO:+1000
TZNAME:AEST
DTSTART:20220402T160000
END:STANDARD
BEGIN:DAYLIGHT
TZOFFSETFROM:+1000
TZOFFSETTO:+1100
TZNAME:AEDT
DTSTART:20221001T160000
END:DAYLIGHT
END:VTIMEZONE
BEGIN:VEVENT
DTSTART;TZID=Australia/Sydney:20220923T170000
DTEND;TZID=Australia/Sydney:20220930T100000
DTSTAMP:20260423T054124
CREATED:20220704T054842Z
LAST-MODIFIED:20220704T054842Z
UID:6690-1663952400-1664532000@foodfairnessillawarra.org.au
SUMMARY:Permaculture Teacher Training
DESCRIPTION:Whether you teach full-time or are yet to dip your toe in the teaching waters\, if you care deeply about making the world a better place\, then this course is for you! \nTeachers\, Rosemary Morrow and Brenna Quinlan will lead this six day intensive\, providing individuals with a vital toolkit of teaching skills. \nThe course is hosted by Earthrise Permaculture. It is fully catered (breakfast\, lunch and dinner) with most food organically grown and sourced locally. On-site camping or a bed in the bunk house is included. \nFor any enquiries contact; info@earthrisepermaculture.com \nWhile FFI takes every reasonable effort to ensure that information is correct at the time of publication\, we recommend that the individual confirm details with the event organiser\, as events can be subject to last minute changes.
URL:https://foodfairnessillawarra.org.au/event/permaculture-teacher-training/
LOCATION:Mt Keira Girls Guides Camp Wollongong NSW\, Australia\, 551 Mt Keira Rd\, Mount Keira\, Wollongong\, NSW\, 2500\, Australia
CATEGORIES:Education,Permaculture Course
ATTACH;FMTTYPE=image/png:https://foodfairnessillawarra.org.au/wp-content/uploads/2022/07/Website-Events-thumbnails-600-x-800-1.png
ORGANIZER;CN="Earthrise%20Permaculture":MAILTO:info@earthrisepermaculture.com
END:VEVENT
BEGIN:VEVENT
DTSTART;TZID=Australia/Sydney:20220928T183000
DTEND;TZID=Australia/Sydney:20220928T193000
DTSTAMP:20260423T054124
CREATED:20220913T022948Z
LAST-MODIFIED:20220913T022948Z
UID:6887-1664389800-1664393400@foodfairnessillawarra.org.au
SUMMARY:Solidarity Session #24 - FOOPL perspectives: Young farmers and landowners
DESCRIPTION:Hosted by AFSA National Committee member and FOOPL Farmer (Borrowed Ground)\, Eliza Cannon\, this session will be an open discussion on success stories\, challenges and opportunities for FOOPL arrangements to provide experiential insights for young people\, First Peoples as well as emerging and existing farmers to inform decision making when and if they have access to land. \nPoints of discussion:\n– What is FOOPL? (A brief overview of land and farm sharing agreements and AFSA’s FOOPL program)\n– How can land and farm sharing agreements alleviate some of the biggest challenges and barriers for young farmers and First Peoples to access land for farming?\n– Successes\, challenges and barriers involved with this type of structure\n– For those involved in FOOPL arrangements\, what do you wish you knew about land and farm sharing agreements when you first got involved?\n– Taking a consultative approach to FOOPL arrangements with First Peoples\n– AFSA’s land and farm sharing guidelines. \nIf you have any questions about this session\, or if you’re a FOOPL farmer who’d like to be involved in this discussion\, email AFSA’s Admin Officer\, Jess Power (admin@afsa.org.au). \n  \n“While FFI takes every reasonable effort to ensure that information is correct at the time of publication\, we recommend that the individual confirm details with the event organiser\, as events can be subject to last minute changes.”
URL:https://foodfairnessillawarra.org.au/event/solidarity-session-24-foopl-perspectives-young-farmers-and-landowners/
LOCATION:Online Event
ATTACH;FMTTYPE=image/png:https://foodfairnessillawarra.org.au/wp-content/uploads/2022/09/Screen-Shot-2022-09-13-at-12.24.56-pm.png
ORGANIZER;CN="Australian%20Food%20Sovereignty%20Alliance":MAILTO:admin@afsa.org.au
END:VEVENT
END:VCALENDAR