BEGIN:VCALENDAR
VERSION:2.0
PRODID:-//Food Fairness Illawarra - ECPv5.16.1.1//NONSGML v1.0//EN
CALSCALE:GREGORIAN
METHOD:PUBLISH
X-WR-CALNAME:Food Fairness Illawarra
X-ORIGINAL-URL:https://foodfairnessillawarra.org.au
X-WR-CALDESC:Events for Food Fairness Illawarra
BEGIN:VTIMEZONE
TZID:Australia/Sydney
BEGIN:STANDARD
TZOFFSETFROM:+1100
TZOFFSETTO:+1000
TZNAME:AEST
DTSTART:20220402T160000
END:STANDARD
BEGIN:DAYLIGHT
TZOFFSETFROM:+1000
TZOFFSETTO:+1100
TZNAME:AEDT
DTSTART:20221001T160000
END:DAYLIGHT
END:VTIMEZONE
BEGIN:VEVENT
DTSTART;VALUE=DATE:20221012
DTEND;VALUE=DATE:20221019
DTSTAMP:20260422T003605
CREATED:20221004T010912Z
LAST-MODIFIED:20221011T003954Z
UID:7043-1665532800-1666137599@foodfairnessillawarra.org.au
SUMMARY:Global Climate Change Week 2022
DESCRIPTION:Global Climate Change Week (GCCW) aims to encourage academic communities – including academics\, students\, and professional staff at universities and their local municipalities – to contribute more to ensuring that these needs are met. \nThere is an urgent need to reduce emissions of greenhouse gases much more quickly than is currently projected. There is also an urgent need to adapt to the global warming that can’t now be prevented\, and especially for rich countries to help other countries to adapt and develop in low carbon ways. \nCore Events: 12 – 18 October 2022\nThere are many workshops and exhibitions that will be held across the world. \nWollongong: \nThe ‘Antarctic Futures’ art exhibition will be on display in the UOW Gallery\, in the Jillian Broadbent Building (Building 29)\, from Monday to Wednesday\, 10am to 4pm. It will run from 18 August to 19 October 2022. A Panel discussion will occur on Oct 12 speaking on the future of Antarctica\, policy and travel; and how Antarctica’s climate affects global climate and living things. \nFor more information: https://www.uowblogs.com/eco-antarctica/exhibition/ \nUniversity of Wollongong:  https://www.uow.edu.au/united-nations-sustainable-development-goals/goal-13-climate-action/global-climate-change-week/  \nFor other events across Australia\, https://www.globalclimatechangeweek.net/ has more information. \n“While FFI takes every reasonable effort to ensure that information is correct at the time of publication\, we recommend that the individual confirm details with the event organiser\, as events can be subject to last minute changes.”
URL:https://foodfairnessillawarra.org.au/event/global-climate-change-week-2022/
END:VEVENT
BEGIN:VEVENT
DTSTART;VALUE=DATE:20221016
DTEND;VALUE=DATE:20221023
DTSTAMP:20260422T003605
CREATED:20221004T012635Z
LAST-MODIFIED:20221004T012635Z
UID:7051-1665878400-1666483199@foodfairnessillawarra.org.au
SUMMARY:National Nutrition Week 2022: 16th-22nd October
DESCRIPTION:Try for 5 is an annual awareness campaign by Nutrition Australia during National Nutrition Week in October that celebrates vegetables and the important role they can play in our health and wellbeing. The focus of the 2021 campaign was to inspire Australians to ‘Get more veg in your life’.’ \n2022 NATIONAL NUTRITION WEEK WILL FOCUS ON HOW TO ‘GET THE MOST OUT OF YOUR VEGGIES’. \nThe week will inspire you in different ways to: \n\n\nMake the most out of the veggies you have \n\n\nPlan ahead \n\n\nShop smart to save money \n\n\nCorrectly store your Veggies \n\n\nLove your leftovers and \n\n\nGrow your own veg \n\n\nTry For 5 aims to inspire Australians to enjoy vegetables through highlighting the fun and creative ways Australians can incorporate veg into their day. With only 7% of adults and 5% of children eat the recommended serves of vegetables each day\, Nutrition Australia created the campaign to raise awareness of the benefits of eating vegetables. \nVegetables are important for health. They contain a range of nutrients including fibre\, carbohydrates\, protein\, vitamins\, minerals and phytochemicals. Eating the recommended serves of vegetables each day has been to help maintain a healthy weight\, lower cholesterol and blood pressure\, and lower the risk of developing certain chronic diseases such as Type 2 Diabetes and heart disease. \nFor competitions\, recipes and education check out https://www.tryfor5.org.au/. \n“While FFI takes every reasonable effort to ensure that information is correct at the time of publication\, we recommend that the individual confirm details with the event organiser\, as events can be subject to last minute changes.” \n 
URL:https://foodfairnessillawarra.org.au/event/national-nutrition-week-2022-16th-22nd-october/
ATTACH;FMTTYPE=image/jpeg:https://foodfairnessillawarra.org.au/wp-content/uploads/2022/10/304458345_5882420635123896_8859292771339331175_n.jpeg
END:VEVENT
BEGIN:VEVENT
DTSTART;TZID=Australia/Sydney:20221016T100000
DTEND;TZID=Australia/Sydney:20221018T150000
DTSTAMP:20260422T003605
CREATED:20220906T002521Z
LAST-MODIFIED:20220906T003543Z
UID:6840-1665914400-1666105200@foodfairnessillawarra.org.au
SUMMARY:AFSA's Food Sovereignty Convergence 2022
DESCRIPTION:Join AFSA’s first in-person Convergence since 2019\, to discuss pathways to democratically designed food sovereignty. \nFollowing two years of disruption and digital events\, the Australian Food Sovereignty Alliance (AFSA) is beyond thrilled to be able to gather in-person for their annual Food Sovereignty Convergence! This year’s Convergence will be held at Echo Valley Farms in Goomburra Valley\, Queensland.  \nFood sovereignty asserts the right of peoples to nourishing and culturally appropriate food produced and distributed in ecologically sound and ethical ways\, and their right to collectively determine their own food and agriculture systems. \nConvergence is a place where Australia’s food sovereignty movement comes together to debate\, collaborate\, share and strategise to advance food sovereignty in Australia\, as well as build the movement for the future.  \nFrom farmers to First Nations people\, food rights activists to chefs\, from researchers to community organisers: AFSA encourages everyone working on food sovereignty and food system change to join them to help shape the agenda for the coming year. \nSunday 16 October: Agroecology Workshop \n\nTime: 10.00am-4.00pm\n\nSunday 16 October: Convergence welcome potluck dinner and yarning circle \n\nTime: 5:30pm – 9:30pm\n\nMonday 17 October: Convergence Un-conference \n\nTime: 9:00am-5:30pm\n\nMonday night: Convergence Dinner \n\nTime: 6:00pm-9:00pm\n\nTuesday 18 October: Convergence Un-conference and AFSA AGM \n\nTime: 9:00am-3:00pm\n\nFor information on ticket costs\, accommodation and catering → https://afsa.org.au/events/food-sovereignty-convergence-17-18-october-2022/ \nIf you have any questions about Convergence\, email AFSA’s Admin Officer\, Jess Power (admin@afsa.org.au). \n“While FFI takes every reasonable effort to ensure that information is correct at the time of publication\, we recommend that the individual confirm details with the event organiser\, as events can be subject to last minute changes.”
URL:https://foodfairnessillawarra.org.au/event/food-sovereignty-convergence-2022/
LOCATION:Echo Valley Farms\, 157 Forest Springs Rd\, Goomburra\, Queensland\, 4362\, Australia
ATTACH;FMTTYPE=image/png:https://foodfairnessillawarra.org.au/wp-content/uploads/2022/09/Screen-Shot-2022-09-06-at-10.19.30-am.png
ORGANIZER;CN="Australian%20Food%20Sovereignty%20Alliance":MAILTO:admin@afsa.org.au
END:VEVENT
BEGIN:VEVENT
DTSTART;TZID=Australia/Sydney:20221018T180000
DTEND;TZID=Australia/Sydney:20221018T210000
DTSTAMP:20260422T003605
CREATED:20220906T011412Z
LAST-MODIFIED:20220913T021302Z
UID:6849-1666116000-1666126800@foodfairnessillawarra.org.au
SUMMARY:Connecting over Fair Food 2022
DESCRIPTION:Join us for an inspiring\, encouraging and nourishing evening with Clarence Slockee\, local speakers\, expo stalls and a bustling crop swap!\n\nIn a world of growing complexity and uncertainty\, we are gathering to explore how we can together build a food system that is more sustainable\, stronger and resilient here in the Illawarra. Our food system is under great pressure from climate change and natural disaster-related supply chain disruption. Building local resilience will help us be better equipped to deal with future uncertainties\, as well as support biodiversity and mitigate climate change. \nThese complex and systemic challenges require proactive and intersectoral action\, but where can we start as a community? \nIn a conversation guided by local goat herders/cheesemakers Fiona Weir Walmsley and Adam Walmsley from Buena Vista Farm\, you will hear from those who are actively working within our food system and explore ideas around building food resilience in our community. \n\n\n\nSpeakers\nWe are over the moon to welcome:\nClarence Slockee\n\n Cudgenburra/Bundjalung Aboriginal man with a long family history of bushmen\, farmers and fishermen growing up in the lush Tweed Valley. Clarence intertwines his love of plants\, education\, culture\, design and the arts into his role as Director of Jiwah.\n\nRod Logan\n\n The Market Garden coordinator at Green Connect and one of the drivers behind the Woonona Community Garden.\n\nSheryl Wiffen\n\nA passionate Permaculture Gardener and one of the initiaters behind ‘Permablitz the Gong’.\n\nAsh Castro\n\n​ The new Manager at Warrawong Residents Forum Inc (WRF) which runs out of Warrawong Community Centre.\nCrop Swap\nWe are calling on all backyard\, verge and balcony growers to bring along any surplus to swap. Think of a glut of garden greens\, surplus mulberries\, a bay leaf tree or rosemary that can benefit from a trim or herbs that are almost coming out of your ears etc. Crop swaps are a great way to build local community\, reducing food waste & eating better\, for less. \n\nLocal Feast\nOn entrance your will be provided with a Darkes Cider of your choice and a dinner box full of local goodness. BYO water bottle.\n\nTickets\nAll revenue from the tickets is invested back into Food Fairness Illawarra\, to enable it’s collaborative work towards a more sustainable\, stronger and resilient local food system (incl. events like this).\nPartnerships for the Goals (SDG17)\nThis event is organised by Food Fairness Illawarra\, in partnership with Shellharbour City Council\, Kiama Municipal Council\, Illawarra Shoalhaven Local Health District\, University of Wollongong and Healthy Cities Illawarra. Achieving Sustainable Development Goal 2: Zero Hunger is more than just addressing hunger and responsibility doesn’t only lie with governments. We all have a role to play\, from making food choices that improve both our health and the health of our food system\, to not letting sustainable habits fall by the wayside. There are many opportunities to get involved in changing the food system together\, we look forward to connecting with you and embracing our actions as our future.
URL:https://foodfairnessillawarra.org.au/event/connecting-over-fair-food-2022/
LOCATION:Sustainable Buildings Research Centre\, Building 237\, Innovation Campus\, Squires Way\, Fairy Meadow NSW 2519
ORGANIZER;CN="Food%20Fairness%20Illawarra":MAILTO:berbel@healthycities.org.au
END:VEVENT
END:VCALENDAR