BEGIN:VCALENDAR
VERSION:2.0
PRODID:-//Food Fairness Illawarra - ECPv5.16.1.1//NONSGML v1.0//EN
CALSCALE:GREGORIAN
METHOD:PUBLISH
X-WR-CALNAME:Food Fairness Illawarra
X-ORIGINAL-URL:https://foodfairnessillawarra.org.au
X-WR-CALDESC:Events for Food Fairness Illawarra
BEGIN:VTIMEZONE
TZID:Australia/Sydney
BEGIN:STANDARD
TZOFFSETFROM:+1100
TZOFFSETTO:+1000
TZNAME:AEST
DTSTART:20220402T160000
END:STANDARD
BEGIN:DAYLIGHT
TZOFFSETFROM:+1000
TZOFFSETTO:+1100
TZNAME:AEDT
DTSTART:20221001T160000
END:DAYLIGHT
END:VTIMEZONE
BEGIN:VEVENT
DTSTART;TZID=Australia/Sydney:20221028T090000
DTEND;TZID=Australia/Sydney:20221028T143000
DTSTAMP:20260422T025617
CREATED:20221025T023556Z
LAST-MODIFIED:20221025T023718Z
UID:7176-1666947600-1666967400@foodfairnessillawarra.org.au
SUMMARY:Green Connect Volunteer Dig Day
DESCRIPTION:Would you like to be part of Wollongong’s biggest regenerative farm? To meet new people\, try new things\, get outdoors and physically active and your hands in the soil? \nCome along to Green Connect’s volunteer dig day. Registrations are essential. \nVolunteers will be removing crops (pulling produce out of the ground)\, clearing plots (ridding garden beds of all crops and weeds) and composting. \nPlease note this is quite physical work and there are very few opportunities for light work at dig days. Any food harvested on the day will be available for volunteers to take home. Any remaining food will be donated to a local charity. \nPlease register as a volunteer via the Green Connect Website. \n  \nWhile FFI takes every reasonable effort to ensure that information is correct at the time of publication\, we recommend that the individual confirm details with the event organiser\, as events can be subject to last minute changes.
URL:https://foodfairnessillawarra.org.au/event/green-connect-volunteer-dig-day/
LOCATION:Green Connect Farm\, 6 Anna Avenue\, Warrawong\, NSW\, 2502
CATEGORIES:Community Catchup,Community Connections,Physical Activity
ATTACH;FMTTYPE=image/jpeg:https://foodfairnessillawarra.org.au/wp-content/uploads/2022/10/278755841_3187149531573852_5788933326871781857_n.jpg
END:VEVENT
END:VCALENDAR