BEGIN:VCALENDAR
VERSION:2.0
PRODID:-//Food Fairness Illawarra - ECPv5.16.1.1//NONSGML v1.0//EN
CALSCALE:GREGORIAN
METHOD:PUBLISH
X-WR-CALNAME:Food Fairness Illawarra
X-ORIGINAL-URL:https://foodfairnessillawarra.org.au
X-WR-CALDESC:Events for Food Fairness Illawarra
BEGIN:VTIMEZONE
TZID:Australia/Sydney
BEGIN:STANDARD
TZOFFSETFROM:+1100
TZOFFSETTO:+1000
TZNAME:AEST
DTSTART:20220402T160000
END:STANDARD
BEGIN:DAYLIGHT
TZOFFSETFROM:+1000
TZOFFSETTO:+1100
TZNAME:AEDT
DTSTART:20221001T160000
END:DAYLIGHT
END:VTIMEZONE
BEGIN:VEVENT
DTSTART;TZID=Australia/Sydney:20221111T091500
DTEND;TZID=Australia/Sydney:20221111T140000
DTSTAMP:20260421T060035
CREATED:20221025T035713Z
LAST-MODIFIED:20221025T035847Z
UID:7189-1668158100-1668175200@foodfairnessillawarra.org.au
SUMMARY:Sydney Urban Agriculture Forum
DESCRIPTION:Co-hosted by Sustain: The Australian Food Network and City of Sydney\, the Sydney Urban Agriculture Forum held on Fri 11 Nov is the centrepiece of the 2nd national Urban Agriculture Month. This Forum will be a celebration of the fantastic work underway across Sydney to strengthen the city’s food system in face of mounting and serious challenges. \nIt will also be a deep dive into some of the policy and practice responses to those challenges\, at the global\, national\, state and local levels. \nThe Forum will be held at Sydney City Farm\, in collaboration with Sustain: The Australian Food Network and City of Sydney\, as part of a nationwide program of events to highlight the critical role that urban agriculture plays in dealing with health and wellbeing\, sustainability\, climate change\, and food security issue. \nMC: Costa Georgiadis (ABCTV’s Gardening Australia\, Costa’s World and Sustain ambassador. \nGuest speakers include : Alex Greenwich MP\, Lauren and Belinda from Sydney City Farm\, Councillor (Waskam) Emelda Davis from City of Sydney\, Dr. Nick Rose from Sustain: The Australian Food Network\, with more to be announced. \nThe day will start off at 9.15am with a tour of the farm. And official proceedings commence at 10am. Morning tea & lunch will be provided. \n  \nWhile FFI takes every reasonable effort to ensure that information is correct at the time of publication\, we recommend that the individual confirm details with the event organiser\, as events can be subject to last minute changes
URL:https://foodfairnessillawarra.org.au/event/sydney-urban-agriculture-forum/
LOCATION:Sydney City Farm\, 52 Barwon Park Road\, St Peters\, NSW\, 2044
CATEGORIES:Community Catchup,Community Gardens,Education
ATTACH;FMTTYPE=image/webp:https://foodfairnessillawarra.org.au/wp-content/uploads/2022/10/Sydney-Urban-Ag-Forum.webp
END:VEVENT
BEGIN:VEVENT
DTSTART;TZID=Australia/Sydney:20221111T100000
DTEND;TZID=Australia/Sydney:20221111T120000
DTSTAMP:20260421T060035
CREATED:20221101T001359Z
LAST-MODIFIED:20221101T001918Z
UID:7224-1668160800-1668168000@foodfairnessillawarra.org.au
SUMMARY:Women Illawarra - The Women's Patch / Garden Workshop
DESCRIPTION:Women Illawarra is proud to partner with A Garden for Life to deliver a series of FREE gardening workshops over the next few months. Join us in our organic garden on the 11th November where we will be learning about growing potatoes in small spaces. \nMorning tea and garden supplies provided \n  \nWhile FFI takes every reasonable effort to ensure that information is correct at the time of publication\, we recommend that the individual confirm details with the event organiser\, as events can be subject to last minute changes.
URL:https://foodfairnessillawarra.org.au/event/the-womens-patch-garden-workshop/
LOCATION:Women Illawarra\, 170 Corrimal Street\, Wollongong\, NSW\, 2500\, Australia
CATEGORIES:Community Catchup,Community Connections,Education
ATTACH;FMTTYPE=image/png:https://foodfairnessillawarra.org.au/wp-content/uploads/2022/11/300520021_424299273129843_5142441619420946900_n.png
ORGANIZER;CN="Women%20Illawarra":MAILTO:wi@womenillawarra.org.au
END:VEVENT
END:VCALENDAR