BEGIN:VCALENDAR
VERSION:2.0
PRODID:-//Food Fairness Illawarra - ECPv5.16.1.1//NONSGML v1.0//EN
CALSCALE:GREGORIAN
METHOD:PUBLISH
X-WR-CALNAME:Food Fairness Illawarra
X-ORIGINAL-URL:https://foodfairnessillawarra.org.au
X-WR-CALDESC:Events for Food Fairness Illawarra
BEGIN:VTIMEZONE
TZID:Australia/Sydney
BEGIN:STANDARD
TZOFFSETFROM:+1100
TZOFFSETTO:+1000
TZNAME:AEST
DTSTART:20220402T160000
END:STANDARD
BEGIN:DAYLIGHT
TZOFFSETFROM:+1000
TZOFFSETTO:+1100
TZNAME:AEDT
DTSTART:20221001T160000
END:DAYLIGHT
END:VTIMEZONE
BEGIN:VEVENT
DTSTART;TZID=Australia/Sydney:20221112T100000
DTEND;TZID=Australia/Sydney:20221112T110000
DTSTAMP:20260421T043903
CREATED:20221025T033037Z
LAST-MODIFIED:20221025T040037Z
UID:7187-1668247200-1668250800@foodfairnessillawarra.org.au
SUMMARY:Open Garden Tour - Pope's Produce
DESCRIPTION:As part of Urban Agriculture Month (an initiative of Sustain Australia) Pope’s Produce in Woonona is opening their backyard market garden to give the curious an insight into local food production. \nTickets are free\, but a contribution towards creating a greenhouse would be appreciated. In conjunction with SaltBush Projects\, Bulli. \n  \nWhile FFI takes every reasonable effort to ensure that information is correct at the time of publication\, we recommend that the individual confirm details with the event organiser\, as events can be subject to last minute changes
URL:https://foodfairnessillawarra.org.au/event/open-garden-tour-popes-produce/
LOCATION:Popes Produce HQ\, Popes Road\, Woonona
CATEGORIES:Community Connections,Community Gardens,Tour
ATTACH;FMTTYPE=image/webp:https://foodfairnessillawarra.org.au/wp-content/uploads/2022/10/late-arvo-market-garden-summertime.webp
END:VEVENT
END:VCALENDAR