BEGIN:VCALENDAR
VERSION:2.0
PRODID:-//Food Fairness Illawarra - ECPv5.16.1.1//NONSGML v1.0//EN
CALSCALE:GREGORIAN
METHOD:PUBLISH
X-WR-CALNAME:Food Fairness Illawarra
X-ORIGINAL-URL:https://foodfairnessillawarra.org.au
X-WR-CALDESC:Events for Food Fairness Illawarra
BEGIN:VTIMEZONE
TZID:Australia/Sydney
BEGIN:STANDARD
TZOFFSETFROM:+1100
TZOFFSETTO:+1000
TZNAME:AEST
DTSTART:20230401T160000
END:STANDARD
BEGIN:DAYLIGHT
TZOFFSETFROM:+1000
TZOFFSETTO:+1100
TZNAME:AEDT
DTSTART:20230930T160000
END:DAYLIGHT
END:VTIMEZONE
BEGIN:VEVENT
DTSTART;TZID=Australia/Sydney:20230913T183000
DTEND;TZID=Australia/Sydney:20230913T200000
DTSTAMP:20260426T104506
CREATED:20230823T005812Z
LAST-MODIFIED:20230823T005812Z
UID:8393-1694629800-1694635200@foodfairnessillawarra.org.au
SUMMARY:Milkwood Permaculture Book Launch
DESCRIPTION:Please come along to an inspiring evening with Kirsten Bradley as we celebrate the launch of her latest book\, The Milkwood Permaculture Living Handbook: Habits for Hope in a Changing World. \nKirsten is the co-founder of Milkwood with Nick Ritar—together they’ve been teaching permaculture design and skills for living like it matters for more than 15 years. \nJoin other local growers\, foodies\, permies in the Illawarra community who want to learn how to build habits for hope in a changing world. A simple vegetarian soup and Trolley’d cocktails will be served. \n\n6:30—Arrive\, mingle\, sip a cocktail\, sip some soup\n7:00—Kirsten Bradley in conversation with local legends (yet to be announced)\n7:45—Book signing\n\nBooks will be available for purchase on the evening. If you can’t make it to the book launch but would still like to order a copy of the signed book\, go to the Milkwood website. \n 
URL:https://foodfairnessillawarra.org.au/event/milkwood-permaculture-book-launch/
LOCATION:Saltbush Projects\, 43 Westmacott Parade\, Bulli\, NSW\, 2516\, Australia
CATEGORIES:Community Connections,Connecting Over Fair Food
ATTACH;FMTTYPE=image/png:https://foodfairnessillawarra.org.au/wp-content/uploads/2023/08/cCwOm7nTl22ZxdNX1ahh_MILKWOOD_Logo_and_Tree_with_Ground_Highlights_for_kajaboi_login_720x410_2.png
END:VEVENT
END:VCALENDAR