BEGIN:VCALENDAR
VERSION:2.0
PRODID:-//Food Fairness Illawarra - ECPv5.16.1.1//NONSGML v1.0//EN
CALSCALE:GREGORIAN
METHOD:PUBLISH
X-WR-CALNAME:Food Fairness Illawarra
X-ORIGINAL-URL:https://foodfairnessillawarra.org.au
X-WR-CALDESC:Events for Food Fairness Illawarra
BEGIN:VTIMEZONE
TZID:Australia/Sydney
BEGIN:STANDARD
TZOFFSETFROM:+1100
TZOFFSETTO:+1000
TZNAME:AEST
DTSTART:20230401T160000
END:STANDARD
BEGIN:DAYLIGHT
TZOFFSETFROM:+1000
TZOFFSETTO:+1100
TZNAME:AEDT
DTSTART:20230930T160000
END:DAYLIGHT
END:VTIMEZONE
BEGIN:VEVENT
DTSTART;TZID=Australia/Sydney:20230915T100000
DTEND;TZID=Australia/Sydney:20230915T120000
DTSTAMP:20260426T075257
CREATED:20230725T111209Z
LAST-MODIFIED:20230725T111209Z
UID:8256-1694772000-1694779200@foodfairnessillawarra.org.au
SUMMARY:The Women's Patch Workshops - Yoga
DESCRIPTION:Workshop #4 at The Women’s Patch – Yoga with Teresa @ Pioneer Rest Park \nWomen Illawarra are hosting a series of workshops starting August at The Women’s Patch. These workshops are free but do require bookings. Call (02) 4228 1299 or email wi@womenillawarra.org.au to register if you wish to come along to these!
URL:https://foodfairnessillawarra.org.au/event/the-womens-patch-workshops-yoga/
LOCATION:Women Illawarra\, 170 Corrimal Street\, Wollongong\, NSW\, 2500\, Australia
CATEGORIES:Workshop
ATTACH;FMTTYPE=image/png:https://foodfairnessillawarra.org.au/wp-content/uploads/2023/07/Screen-Shot-2023-07-25-at-9.00.47-pm.png
ORGANIZER;CN="Women%20Illawarra":MAILTO:wi@womenillawarra.org.au
END:VEVENT
END:VCALENDAR