BEGIN:VCALENDAR
VERSION:2.0
PRODID:-//Food Fairness Illawarra - ECPv5.16.1.1//NONSGML v1.0//EN
CALSCALE:GREGORIAN
METHOD:PUBLISH
X-WR-CALNAME:Food Fairness Illawarra
X-ORIGINAL-URL:https://foodfairnessillawarra.org.au
X-WR-CALDESC:Events for Food Fairness Illawarra
BEGIN:VTIMEZONE
TZID:Australia/Sydney
BEGIN:STANDARD
TZOFFSETFROM:+1100
TZOFFSETTO:+1000
TZNAME:AEST
DTSTART:20230401T160000
END:STANDARD
BEGIN:DAYLIGHT
TZOFFSETFROM:+1000
TZOFFSETTO:+1100
TZNAME:AEDT
DTSTART:20230930T160000
END:DAYLIGHT
END:VTIMEZONE
BEGIN:VEVENT
DTSTART;TZID=Australia/Sydney:20230916T100000
DTEND;TZID=Australia/Sydney:20230916T123000
DTSTAMP:20260426T063020
CREATED:20230823T020256Z
LAST-MODIFIED:20230823T020256Z
UID:8396-1694858400-1694867400@foodfairnessillawarra.org.au
SUMMARY:FAIRY MEADOW FOODIE TOUR- NINA CANTINA
DESCRIPTION:Nina Cantina is back and wants to take you on a culinary journey through Fairy Meadow! Fairy meadow is a food mecca! \nThe Nina Cantina team will meet for a coffee to start the day and graze our way around Fairy Meadow and discover all it’s delights. Coffee and all tastings included. You will be visiting the newly expanded Spice Corner in Fairy Meadow. \nBookings are essential and tickets sell fast!
URL:https://foodfairnessillawarra.org.au/event/fairy-meadow-foodie-tour-nina-cantina/
LOCATION:Pasticerria Massimo Papa\, 130 Princes Hwy\, Fairy Meadow\, NSW\, 2519\, Australia
CATEGORIES:Tour
ATTACH;FMTTYPE=image/jpeg:https://foodfairnessillawarra.org.au/wp-content/uploads/2023/08/6EB12F10-6857-4D8B-88AA-FAB9501AA22A.jpeg
ORGANIZER;CN="Nina%20Cantina":MAILTO:hello@ninacantina.com
END:VEVENT
END:VCALENDAR