BEGIN:VCALENDAR
VERSION:2.0
PRODID:-//Food Fairness Illawarra - ECPv5.16.1.1//NONSGML v1.0//EN
CALSCALE:GREGORIAN
METHOD:PUBLISH
X-WR-CALNAME:Food Fairness Illawarra
X-ORIGINAL-URL:https://foodfairnessillawarra.org.au
X-WR-CALDESC:Events for Food Fairness Illawarra
BEGIN:VTIMEZONE
TZID:Australia/Sydney
BEGIN:STANDARD
TZOFFSETFROM:+1100
TZOFFSETTO:+1000
TZNAME:AEST
DTSTART:20230401T160000
END:STANDARD
BEGIN:DAYLIGHT
TZOFFSETFROM:+1000
TZOFFSETTO:+1100
TZNAME:AEDT
DTSTART:20230930T160000
END:DAYLIGHT
END:VTIMEZONE
BEGIN:VEVENT
DTSTART;TZID=Australia/Sydney:20231007T140000
DTEND;TZID=Australia/Sydney:20231007T150000
DTSTAMP:20260423T022347
CREATED:20231004T022015Z
LAST-MODIFIED:20231221T031804Z
UID:8485-1696687200-1696690800@foodfairnessillawarra.org.au
SUMMARY:Bulli Crop Swap
DESCRIPTION:Crop Swap location to the Northern Suburbs of the Illawarra\, the first Saturday of each month. Bring your seeds\, plants\, produce\, cuttings\, jams and preserves to swap with other home-growers in the community!
URL:https://foodfairnessillawarra.org.au/event/bulli-crop-swap-2/2023-10-07/
LOCATION:Millers Local Bakehouse 1/249 Princes Hwy Bulli\, NSW 2516 Australia
ATTACH;FMTTYPE=image/jpeg:https://foodfairnessillawarra.org.au/wp-content/uploads/2023/10/FOODTALKS.jpeg
END:VEVENT
END:VCALENDAR