BEGIN:VCALENDAR
VERSION:2.0
PRODID:-//Food Fairness Illawarra - ECPv5.16.1.1//NONSGML v1.0//EN
CALSCALE:GREGORIAN
METHOD:PUBLISH
X-WR-CALNAME:Food Fairness Illawarra
X-ORIGINAL-URL:https://foodfairnessillawarra.org.au
X-WR-CALDESC:Events for Food Fairness Illawarra
BEGIN:VTIMEZONE
TZID:Australia/Sydney
BEGIN:STANDARD
TZOFFSETFROM:+1100
TZOFFSETTO:+1000
TZNAME:AEST
DTSTART:20230401T160000
END:STANDARD
BEGIN:DAYLIGHT
TZOFFSETFROM:+1000
TZOFFSETTO:+1100
TZNAME:AEDT
DTSTART:20230930T160000
END:DAYLIGHT
END:VTIMEZONE
BEGIN:VEVENT
DTSTART;TZID=Australia/Sydney:20231008T090000
DTEND;TZID=Australia/Sydney:20231008T150000
DTSTAMP:20260422T210038
CREATED:20230927T064436Z
LAST-MODIFIED:20230927T064436Z
UID:8474-1696755600-1696777200@foodfairnessillawarra.org.au
SUMMARY:Ballys Patch Open Day
DESCRIPTION:JOIN US FOR THE BALLYS PATCH OPEN DAY!\n\nFrom 9.15am: Normal Working Bee Activities\n\n10am-12pm: Kid’s Rock Painting\n\n12pm-3pm: Live performance from Balgownie band ‘The Ramps’\n\nPLUS!\n– Historic Photo Exhibition\n– Plant Sale\n– Bake Sale\n– Compost Display\n\nPlease pop in to support Ballys Patch!\n\nPS: If you can bring along something for the Bake Sale\, we would be very grateful!
URL:https://foodfairnessillawarra.org.au/event/ballys-patch-open-day/
ATTACH;FMTTYPE=image/jpeg:https://foodfairnessillawarra.org.au/wp-content/uploads/2023/09/380349181_700558522098657_3146405152888232680_n-1.jpeg
END:VEVENT
END:VCALENDAR