BEGIN:VCALENDAR
VERSION:2.0
PRODID:-//Food Fairness Illawarra - ECPv5.16.1.1//NONSGML v1.0//EN
CALSCALE:GREGORIAN
METHOD:PUBLISH
X-WR-CALNAME:Food Fairness Illawarra
X-ORIGINAL-URL:https://foodfairnessillawarra.org.au
X-WR-CALDESC:Events for Food Fairness Illawarra
BEGIN:VTIMEZONE
TZID:Australia/Sydney
BEGIN:STANDARD
TZOFFSETFROM:+1100
TZOFFSETTO:+1000
TZNAME:AEST
DTSTART:20230401T160000
END:STANDARD
BEGIN:DAYLIGHT
TZOFFSETFROM:+1000
TZOFFSETTO:+1100
TZNAME:AEDT
DTSTART:20230930T160000
END:DAYLIGHT
END:VTIMEZONE
BEGIN:VEVENT
DTSTART;TZID=Australia/Sydney:20231021T160000
DTEND;TZID=Australia/Sydney:20231023T140000
DTSTAMP:20260422T030006
CREATED:20230913T001415Z
LAST-MODIFIED:20230913T001415Z
UID:8444-1697904000-1698069600@foodfairnessillawarra.org.au
SUMMARY:Food Sovereignty Convergence 2023
DESCRIPTION:The Australian Food Sovereignty Alliance (AFSA) is taking its annual Food Sovereignty Convergence to New South Wales in 2023\, on 21-23 October at SAGE (Brinja-Yuin Country\, Moruya NSW). \nConvergence is a space where Australia’s food sovereignty movement comes together in-person to debate\, collaborate\, share and strategise ways to advance food sovereignty in Australia\, as well as set a supportive foundation for local movement building. From farmers to First Nations people\, food rights activists to chefs\, from researchers to community organisers: we encourage everyone working on food sovereignty and food system change to join us to help shape the agenda for the coming year! \nThis year’s Convergence is particularly special\, as we kick off with the launch of AFSA’s next book\, Eating Democracy: The True Cost of the Food We Eat\, hosted by Costa Georgiadis. From now until 19 September\, we’re raising funds to help us publish the book and put on a spectacular launch event to galvanise a movement of eaters embracing food sovereignty in different ways. \nFood sovereignty asserts the right of peoples to nourishing and culturally appropriate food produced and distributed in ecologically sound and ethical ways\, and their right to collectively determine their own food and agriculture systems. In the style of an un-conference\, we aim to make Convergence an open and democratic space to discuss pathways to achieve food sovereignty for all. \nPlease see BOOK/ENQUIRE link for more details and tickets. 
URL:https://foodfairnessillawarra.org.au/event/food-sovereignty-convergence-2023/
LOCATION:SAGE\, 110 Queen St\, Moruya\, NSW\, 2537\, Australia
CATEGORIES:conference,Connecting Over Fair Food,Education
ATTACH;FMTTYPE=image/jpeg:https://foodfairnessillawarra.org.au/wp-content/uploads/2023/09/food.jpg
ORGANIZER;CN="Australian%20Food%20Sovereignty%20Alliance":MAILTO:admin@afsa.org.au
END:VEVENT
END:VCALENDAR