BEGIN:VCALENDAR
VERSION:2.0
PRODID:-//Food Fairness Illawarra - ECPv5.16.1.1//NONSGML v1.0//EN
CALSCALE:GREGORIAN
METHOD:PUBLISH
X-WR-CALNAME:Food Fairness Illawarra
X-ORIGINAL-URL:https://foodfairnessillawarra.org.au
X-WR-CALDESC:Events for Food Fairness Illawarra
BEGIN:VTIMEZONE
TZID:Australia/Sydney
BEGIN:STANDARD
TZOFFSETFROM:+1100
TZOFFSETTO:+1000
TZNAME:AEST
DTSTART:20230401T160000
END:STANDARD
BEGIN:DAYLIGHT
TZOFFSETFROM:+1000
TZOFFSETTO:+1100
TZNAME:AEDT
DTSTART:20230930T160000
END:DAYLIGHT
END:VTIMEZONE
BEGIN:VEVENT
DTSTART;TZID=Australia/Sydney:20231102T160000
DTEND;TZID=Australia/Sydney:20231102T170000
DTSTAMP:20260421T085443
CREATED:20231024T025044Z
LAST-MODIFIED:20231024T025044Z
UID:8644-1698940800-1698944400@foodfairnessillawarra.org.au
SUMMARY:Small Space\, Abundant Harvest with The Diggers Club
DESCRIPTION:Learn all you need to know to have an abundant harvest of fresh\, seasonal vegetables in even the smallest garden spaces! \n  \n\nDetails\n\n  \nJoin Ryan Garratt from The Diggers Club\, as he shares simple solutions to transform your small garden space into a productive garden oasis. \nDuring this online workshop\, Ryan will cover: \n\nLayout considerations for small gardens\nSuccession planting\nCrop rotation\nIntensive planting methods to maximise every centimetre of your garden space for growing.\n\nThere will be plenty of time to ask Ryan questions towards the end of the session. \nThis online workshop is suitable for all garden educators to help maximise your yield\, in particular those with garden space constraints. \nOur guest speaker\, Ryan Garratt is the Education Lead for The Diggers Club and a Garden Curator at Buda\, Historic House and Garden\, in Castlemaine. Ryan has a wealth of horticultural knowledge combining 25 years of nursery and garden industry experience\, including roles as Retail Manager\, Nursery Production Manager\, Garden curator and Garden Educator. \nCan’t make the session time but still want to learn about small space gardening? All registered participants will receive a recording to watch at a time that suits you best. \n  \n\nAdditional notes\n\n  \nThis online workshop will take place using Zoom. A link will be sent to all registered participants before the event. You can join the workshop using a computer\, tablet or mobile phone. A recording of the workshop will be sent to participants after the session. \nPlease note: \nThe session time is listed in AEDT. Please double check the start time in your state or territory \nSA: 3.30 pm; QLD: 3:00 pm; NT: 2.30 pm; WA: 1 pm. \nFor educators: \nThe outcomes of this course are aligned to the Australian Professional Standards for Teachers as outlined by the Australian Institute for Teaching and School Leadership (AITSL). \nSmall Spaces\, Abundant Harvest will contribute evidence towards 1.0 hours of accredited professional development in maintaining the following standards: \n2.2 Organise teaching content into effective learning and teaching sequence that can be delivered in classroom or whole school scenarios \n4.2 Establish and maintain orderly and workable routines to create an environment where students time is spent on learning tasks
URL:https://foodfairnessillawarra.org.au/event/small-space-abundant-harvest-with-the-diggers-club/
LOCATION:Online
ATTACH;FMTTYPE=image/png:https://foodfairnessillawarra.org.au/wp-content/uploads/2023/10/servlet.png
END:VEVENT
END:VCALENDAR