BEGIN:VCALENDAR
VERSION:2.0
PRODID:-//Food Fairness Illawarra - ECPv5.16.1.1//NONSGML v1.0//EN
CALSCALE:GREGORIAN
METHOD:PUBLISH
X-WR-CALNAME:Food Fairness Illawarra
X-ORIGINAL-URL:https://foodfairnessillawarra.org.au
X-WR-CALDESC:Events for Food Fairness Illawarra
BEGIN:VTIMEZONE
TZID:Australia/Sydney
BEGIN:STANDARD
TZOFFSETFROM:+1100
TZOFFSETTO:+1000
TZNAME:AEST
DTSTART:20230401T160000
END:STANDARD
BEGIN:DAYLIGHT
TZOFFSETFROM:+1000
TZOFFSETTO:+1100
TZNAME:AEDT
DTSTART:20230930T160000
END:DAYLIGHT
END:VTIMEZONE
BEGIN:VEVENT
DTSTART;TZID=Australia/Sydney:20231104T100000
DTEND;TZID=Australia/Sydney:20231104T120000
DTSTAMP:20260421T054723
CREATED:20231011T021455Z
LAST-MODIFIED:20231011T021947Z
UID:8503-1699092000-1699099200@foodfairnessillawarra.org.au
SUMMARY:Tour & Tea - the extended remix
DESCRIPTION:Tour Popes Produce HQ with the grower\, Sarah for an introduction to what is required to start growing food at home. Through her years of experiences Sarah will share some inroads into growing produce at home and touch on why it’s so valuable to jump in! We’ll briefly explore the zones of the backyard and finish off with some light snacks and a discussion with Suzy Pickles from Food Talks Illawarra of what people think is possible at their places.
URL:https://foodfairnessillawarra.org.au/event/tour-tea-the-extended-remix/
LOCATION:Popes Rd\, Woonona NSW 2517
ATTACH;FMTTYPE=image/jpeg:https://foodfairnessillawarra.org.au/wp-content/uploads/2023/10/ppoutlinesquarelarge1.jpeg
END:VEVENT
BEGIN:VEVENT
DTSTART;TZID=Australia/Sydney:20231104T100000
DTEND;TZID=Australia/Sydney:20231104T120000
DTSTAMP:20260421T054723
CREATED:20231011T022531Z
LAST-MODIFIED:20231220T041856Z
UID:8506-1699092000-1699099200@foodfairnessillawarra.org.au
SUMMARY:Seed and Sapling Swap - Corrimal Library
DESCRIPTION:Visit the library with some of your seeds or saplings\, and swap with other members of the community to propagate your gardens. Chat with other enthusiastic gardeners for tips and tricks on growing a thriving garden space. No bookings are required. For more information\, contact Corrimal Library on (02) 4227 8179.
URL:https://foodfairnessillawarra.org.au/event/seed-and-sapling-swap-corrimal-library-2/2023-11-04/
LOCATION:15 Short Street
ATTACH;FMTTYPE=image/png:https://foodfairnessillawarra.org.au/wp-content/uploads/2023/10/seed-swap-web.png
END:VEVENT
BEGIN:VEVENT
DTSTART;TZID=Australia/Sydney:20231104T100000
DTEND;TZID=Australia/Sydney:20231104T120000
DTSTAMP:20260421T054723
CREATED:20231024T024101Z
LAST-MODIFIED:20231024T024101Z
UID:8638-1699092000-1699099200@foodfairnessillawarra.org.au
SUMMARY:1st Unnanderra Crop Swap
DESCRIPTION:Trading on the success of the Port Kembla Crop Swap\, this swap event will take place on the 1st Saturday of the month. Bring your surplus produce\, seeds\, seedlings\, pickles\, preserves\, eggs\, honey and baked goods to swap with likeminded growers\, gardeners and self sufficiency enthusiasts.
URL:https://foodfairnessillawarra.org.au/event/1st-unnanderra-crop-swap/
LOCATION:Unanderra Community Centre
ATTACH;FMTTYPE=image/jpeg:https://foodfairnessillawarra.org.au/wp-content/uploads/2023/10/394431257_10228387717552329_8173723563455866422_n.jpeg
END:VEVENT
BEGIN:VEVENT
DTSTART;TZID=Australia/Sydney:20231104T100000
DTEND;TZID=Australia/Sydney:20231104T120000
DTSTAMP:20260421T054723
CREATED:20231029T224512Z
LAST-MODIFIED:20231029T224530Z
UID:8662-1699092000-1699099200@foodfairnessillawarra.org.au
SUMMARY:Growing a Bush Food Garden
DESCRIPTION:Learn how to grow\, harvest and cook with native edible plants.
URL:https://foodfairnessillawarra.org.au/event/growing-a-bush-food-garden/
LOCATION:Sydney Wildflower Nursery\, 9 Veno Street\, Heathcote\, NSW\, 2508\, Australia
CATEGORIES:Permaculture Course
END:VEVENT
BEGIN:VEVENT
DTSTART;TZID=Australia/Sydney:20231104T130000
DTEND;TZID=Australia/Sydney:20231104T160000
DTSTAMP:20260421T054723
CREATED:20231024T024531Z
LAST-MODIFIED:20231024T024531Z
UID:8641-1699102800-1699113600@foodfairnessillawarra.org.au
SUMMARY:Home Composting Workshop
DESCRIPTION:Learn the basics of successful composting in your own home. \nNo yard? No worries! \nThere is a composting method to suit every situation. \nWe’ll take you through how to use a: \n\ncompost bin\nworm farm\nBokashi One composting system.\n\nEach attending household will get to take one (1) of these items home. \nTo attend\, you must be a resident of the Kiama Municipality and pay a waste services fee through your annual rates. \nPlease: \n\nbring a small dish to share with your fellow composting enthusiasts\nwear enclosed footwear and appropriate clothing for cold weather.
URL:https://foodfairnessillawarra.org.au/event/home-composting-workshop-3/
LOCATION:Kiama Community Garden\, Havilah Place\, KIAMA\, 2533
ATTACH;FMTTYPE=image/jpeg:https://foodfairnessillawarra.org.au/wp-content/uploads/2023/10/home-composting.jpeg
END:VEVENT
END:VCALENDAR