BEGIN:VCALENDAR
VERSION:2.0
PRODID:-//Food Fairness Illawarra - ECPv5.16.1.1//NONSGML v1.0//EN
CALSCALE:GREGORIAN
METHOD:PUBLISH
X-WR-CALNAME:Food Fairness Illawarra
X-ORIGINAL-URL:https://foodfairnessillawarra.org.au
X-WR-CALDESC:Events for Food Fairness Illawarra
BEGIN:VTIMEZONE
TZID:Australia/Sydney
BEGIN:STANDARD
TZOFFSETFROM:+1100
TZOFFSETTO:+1000
TZNAME:AEST
DTSTART:20230401T160000
END:STANDARD
BEGIN:DAYLIGHT
TZOFFSETFROM:+1000
TZOFFSETTO:+1100
TZNAME:AEDT
DTSTART:20230930T160000
END:DAYLIGHT
END:VTIMEZONE
BEGIN:VEVENT
DTSTART;TZID=Australia/Sydney:20231111T090000
DTEND;TZID=Australia/Sydney:20231111T120000
DTSTAMP:20260421T161323
CREATED:20231018T023120Z
LAST-MODIFIED:20231018T023120Z
UID:8629-1699693200-1699704000@foodfairnessillawarra.org.au
SUMMARY:Green Connect Bi-monthly Farm Blitz
DESCRIPTION:Come and check out your local urban farm\, meet the animals and get your hands dirty helping out.\nIn 2023 we are opening the farm to the community for a series of bi-monthly Saturday farm days\, held from 9am to 12noon with a BYO BBQ to follow. \nYou will work alongside a Green Connect team members and there will be nature-play activities for the kids.
URL:https://foodfairnessillawarra.org.au/event/green-connect-bi-monthly-farm-blitz/
LOCATION:Green Connect Farm\, 6 Anna Avenue\, Warrawong\, NSW\, 2502
END:VEVENT
END:VCALENDAR