BEGIN:VCALENDAR
VERSION:2.0
PRODID:-//Food Fairness Illawarra - ECPv5.16.1.1//NONSGML v1.0//EN
CALSCALE:GREGORIAN
METHOD:PUBLISH
X-WR-CALNAME:Food Fairness Illawarra
X-ORIGINAL-URL:https://foodfairnessillawarra.org.au
X-WR-CALDESC:Events for Food Fairness Illawarra
BEGIN:VTIMEZONE
TZID:Australia/Sydney
BEGIN:STANDARD
TZOFFSETFROM:+1100
TZOFFSETTO:+1000
TZNAME:AEST
DTSTART:20230401T160000
END:STANDARD
BEGIN:DAYLIGHT
TZOFFSETFROM:+1000
TZOFFSETTO:+1100
TZNAME:AEDT
DTSTART:20230930T160000
END:DAYLIGHT
END:VTIMEZONE
BEGIN:VEVENT
DTSTART;TZID=Australia/Sydney:20231112T100000
DTEND;TZID=Australia/Sydney:20231112T120000
DTSTAMP:20260421T145126
CREATED:20231018T024307Z
LAST-MODIFIED:20231018T024307Z
UID:8631-1699783200-1699790400@foodfairnessillawarra.org.au
SUMMARY:Pope's Produce Open Garden Tours
DESCRIPTION:Join in to check out one example of urban food production during Urban Agriculture\, founded by Sustain Australia. \nYou’ll see a little of what’s involved in growing chemical free\, seasonal produce locally. \nTours @ 10am\, 11am and midday
URL:https://foodfairnessillawarra.org.au/event/popes-produce-open-garden-tours/
LOCATION:Popes Produce HQ\, Popes Road\, Woonona
END:VEVENT
END:VCALENDAR