BEGIN:VCALENDAR
VERSION:2.0
PRODID:-//Food Fairness Illawarra - ECPv5.16.1.1//NONSGML v1.0//EN
CALSCALE:GREGORIAN
METHOD:PUBLISH
X-WR-CALNAME:Food Fairness Illawarra
X-ORIGINAL-URL:https://foodfairnessillawarra.org.au
X-WR-CALDESC:Events for Food Fairness Illawarra
BEGIN:VTIMEZONE
TZID:Australia/Sydney
BEGIN:STANDARD
TZOFFSETFROM:+1100
TZOFFSETTO:+1000
TZNAME:AEST
DTSTART:20230401T160000
END:STANDARD
BEGIN:DAYLIGHT
TZOFFSETFROM:+1000
TZOFFSETTO:+1100
TZNAME:AEDT
DTSTART:20230930T160000
END:DAYLIGHT
END:VTIMEZONE
BEGIN:VEVENT
DTSTART;TZID=Australia/Sydney:20231128T110000
DTEND;TZID=Australia/Sydney:20231128T123000
DTSTAMP:20260421T201439
CREATED:20231017T030800Z
LAST-MODIFIED:20231122T003245Z
UID:8516-1701169200-1701174600@foodfairnessillawarra.org.au
SUMMARY:Food Fairness Illawarra Quarterly Catchup
DESCRIPTION:Join us for our next Community meeting to continue our collaborative work towards a fairer food system! \nThis meeting is open to all and provides the opportunity to: \n\nShare information\, resources and research ideas to continually strengthen our local fair food potential;\nBring issues of common concern to the attention of the FFI community (and decision-makers);\nConnect with others in the fair food community.\n\nIt doesn’t matter how active you have been in FFI in the past\, this is your chance to get involved! \nThis meeting will take place online\, RSVP to receive the link via mail@foodfairnessillawarra.org.au \nIf you cannot make the meeting\, you are welcome to send an email update to be shared during the meeting. \n 
URL:https://foodfairnessillawarra.org.au/event/food-fairness-illawarra-quarterly-catchup/
CATEGORIES:Community Catchup
ATTACH;FMTTYPE=image/png:https://foodfairnessillawarra.org.au/wp-content/uploads/2021/07/Website-Events-thumbnails-600-x-800-3-1.png
ORGANIZER;CN="Food%20Fairness%20Illawarra":MAILTO:berbel@healthycities.org.au
END:VEVENT
END:VCALENDAR