BEGIN:VCALENDAR
VERSION:2.0
PRODID:-//Food Fairness Illawarra - ECPv5.16.1.1//NONSGML v1.0//EN
CALSCALE:GREGORIAN
METHOD:PUBLISH
X-WR-CALNAME:Food Fairness Illawarra
X-ORIGINAL-URL:https://foodfairnessillawarra.org.au
X-WR-CALDESC:Events for Food Fairness Illawarra
BEGIN:VTIMEZONE
TZID:Australia/Sydney
BEGIN:STANDARD
TZOFFSETFROM:+1100
TZOFFSETTO:+1000
TZNAME:AEST
DTSTART:20230401T160000
END:STANDARD
BEGIN:DAYLIGHT
TZOFFSETFROM:+1000
TZOFFSETTO:+1100
TZNAME:AEDT
DTSTART:20230930T160000
END:DAYLIGHT
END:VTIMEZONE
BEGIN:VEVENT
DTSTART;TZID=Australia/Sydney:20231129T183000
DTEND;TZID=Australia/Sydney:20231129T193000
DTSTAMP:20260421T214801
CREATED:20231115T034919Z
LAST-MODIFIED:20231115T034919Z
UID:8841-1701282600-1701286200@foodfairnessillawarra.org.au
SUMMARY:Solidarity Session #32 - Convergence wrap-up
DESCRIPTION:Couldn’t make it to Convergence this year? No worries! Catch up on AFSA’s action plan for 2024.\nLast month\, the Australian Food Sovereignty Alliance (AFSA) converged on Brinja-Yuin Country\, (Moruya NSW) for our annual Food Sovereignty Convergence\, a democratically organised gathering that builds connection and sets our organisation’s priorities for the year ahead. This year saw a strong focus on building and supporting more local and community-of-practice collectives\, promoting agroecology as a science\, a set of practices\, and a social movement\, and establishing an agrarian trust\, amongst other important activities!\nIn the lead up\, we received a number of questions about the option to livestream the Unconference to those who couldn’t make it. While we believe it’s not possible to capture the magic of in-person movement building\, this Solidarity Session is targeted at anyone who wasn’t able to come along to see where you might be able to get more involved in the movement.\nJoin us for a wrap-up of the two days of lively discussion and action planning\, including a run down of the Convergence Declaration 2023\, which summarises the actions that were collectively agreed upon for the year ahead.\nThis session will be led by AFSA President\, Tammi Jonas\, who will offer a brief recap on what we got up to in Moruya\, before opening up the floor to members and allies to ask questions and offer additional actions for AFSA’s 2024 work plan.\nEvent details:\n– Date: Wednesday 29 November\n– Time: 6.30-7.30pm (AEDT)\n– Location: Online (Zoom)\n– Cost: Free\nAs always\, this session is open to anyone and everyone interested in food sovereignty and agroecology. From First Peoples to farmers and allies\, please share this invitation widely. AFSA is its members\, so we want to hear from you all to ensure our 2024 priorities reflect your needs.\nIf you have any questions about this Solidarity Session please email us (coordinator@afsa.org.au).
URL:https://foodfairnessillawarra.org.au/event/solidarity-session-32-convergence-wrap-up/
LOCATION:Online (Zoom)
ATTACH;FMTTYPE=image/png:https://foodfairnessillawarra.org.au/wp-content/uploads/2023/11/Screen-Shot-2023-11-15-at-2.47.01-pm.png
END:VEVENT
END:VCALENDAR