BEGIN:VCALENDAR
VERSION:2.0
PRODID:-//Food Fairness Illawarra - ECPv5.16.1.1//NONSGML v1.0//EN
CALSCALE:GREGORIAN
METHOD:PUBLISH
X-WR-CALNAME:Food Fairness Illawarra
X-ORIGINAL-URL:https://foodfairnessillawarra.org.au
X-WR-CALDESC:Events for Food Fairness Illawarra
BEGIN:VTIMEZONE
TZID:Australia/Sydney
BEGIN:STANDARD
TZOFFSETFROM:+1100
TZOFFSETTO:+1000
TZNAME:AEST
DTSTART:20230401T160000
END:STANDARD
BEGIN:DAYLIGHT
TZOFFSETFROM:+1000
TZOFFSETTO:+1100
TZNAME:AEDT
DTSTART:20230930T160000
END:DAYLIGHT
END:VTIMEZONE
BEGIN:VEVENT
DTSTART;TZID=Australia/Sydney:20231208T100000
DTEND;TZID=Australia/Sydney:20231208T120000
DTSTAMP:20260422T112243
CREATED:20231122T001829Z
LAST-MODIFIED:20231122T001829Z
UID:8905-1702029600-1702036800@foodfairnessillawarra.org.au
SUMMARY:Women's Patch Drop and Swap
DESCRIPTION:As we near the season of giving\, The Women’s Patch will be hosting our first ever drop and swap\, where all women in the community will be welcomed to leave a treasure and take a treasure from the Women’s Patch. \nHere’s how it works. You bring an item; you take an item. You bring 3 items; you take 3 items. \nConsider the following:\n• Homegrown herbs\, fruit\, veggies\, eggs\n• Seeds\, seedlings\, edible plants\n• Preserved or prepared foods (pickles or Jams)\n• Growing materials (pots\, worms\, worm castings\, coffee grounds)\n• Gardening books\, tools \nIf you would like to donate an item to the drop and swap\, we are so grateful for your generosity. \nPlease contact AngelaE@womenillawarra.com to discuss donations or to register for the event.
URL:https://foodfairnessillawarra.org.au/event/womens-patch-drop-and-swap/
LOCATION:170 corrimal street\, 170 Corrimal Street\, Wollongong\, NSW\, 2500\, Australia
CATEGORIES:Community Connections,Crop and Swap
ORGANIZER;CN="Women%20Illawarra":MAILTO:wi@womenillawarra.org.au
END:VEVENT
END:VCALENDAR