BEGIN:VCALENDAR
VERSION:2.0
PRODID:-//Food Fairness Illawarra - ECPv5.16.1.1//NONSGML v1.0//EN
CALSCALE:GREGORIAN
METHOD:PUBLISH
X-WR-CALNAME:Food Fairness Illawarra
X-ORIGINAL-URL:https://foodfairnessillawarra.org.au
X-WR-CALDESC:Events for Food Fairness Illawarra
BEGIN:VTIMEZONE
TZID:Australia/Sydney
BEGIN:STANDARD
TZOFFSETFROM:+1100
TZOFFSETTO:+1000
TZNAME:AEST
DTSTART:20240406T160000
END:STANDARD
BEGIN:DAYLIGHT
TZOFFSETFROM:+1000
TZOFFSETTO:+1100
TZNAME:AEDT
DTSTART:20241005T160000
END:DAYLIGHT
END:VTIMEZONE
BEGIN:VEVENT
DTSTART;TZID=Australia/Sydney:20240113T100000
DTEND;TZID=Australia/Sydney:20240113T113000
DTSTAMP:20260426T114441
CREATED:20240110T031741Z
LAST-MODIFIED:20240110T031741Z
UID:9055-1705140000-1705145400@foodfairnessillawarra.org.au
SUMMARY:"Kids in the Kitchen" - Pizza Making Extravaganza!
DESCRIPTION:The “Kids in the Kitchen” session is focused on encouraging a love for cooking from a young age.\nDuration\n90 minutes of guided pizza-making\, providing a blend of education and entertainment. \nOur experienced pizza chefs are here to share their passion for the art of pizza making with your little ones. This unique session not only allows children to explore their creativity in the kitchen but also educates them about the entire pizza-making process. \nEvery ticket comes with a 250ml apple juice. \nChildren aged 8-16. \nHow It Works on the Day:\nIntroduction and Dough Demonstration: Our session begins with an engaging introduction to pizza making. The kids will witness a live demonstration on how to prepare and knead pizza dough. \nStretching and Topping: It’s time for hands-on action! Children will have the exciting opportunity to stretch their own pizza dough and choose from a delightful array of toppings to personalize their pizza. \nWood-Fired Oven Experience: Our pizza team will unveil the secrets of our wood-fired oven\, showcasing its unique features and explaining the science behind this traditional cooking method. Kids can stand on the other side of the counter and observe the oven in action. \nCooking and Lunchtime: Once the pizzas are topped\, they will be placed in the wood-fired oven by our skilled pizza team. While waiting for the magic to happen\, the children can enjoy a demonstration of the oven’s cooking process. Afterward\, they can collect their freshly cooked pizzas and enjoy the fruits of their labor\, turning lunchtime into a celebration of culinary success.\nWe aren’t leaving adults out\, you! can indulge in the same hand-stretched pizza\, Our mobile pizza stall will be open for regular orders also. \n“Kids in the Kitchen” is more than just a cooking class; it’s an experience that sparks creativity\, instills a sense of accomplishment\, and leaves a lasting appreciation for the art of pizza making. Join us for a slice of delicious fun and culinary exploration! \nA few VERY important points –\nYou must wear closed in shoes! This is for safety reasons and failing to do so will mean you will miss out. If you are booking for other people\, please ensure they are aware of this. \nThe session will begin at the time stated on booking. Please plan to arrive at least 15 min early to allow time for check in\, going to the toilet\, etc. Again\, please ensure everyone in the group is aware of this. \nHow It Works on the Day:\nIntroduction and Dough Demonstration: Our session begins with an engaging introduction to pizza making. The kids will witness a live demonstration on how to prepare and knead pizza dough. \nStretching and Topping: It’s time for hands-on action! Children will have the exciting opportunity to stretch their own pizza dough and choose from a delightful array of toppings to personalize their pizza. \nWood-Fired Oven Experience: Our pizza team will unveil the secrets of our wood-fired oven\, showcasing its unique features and explaining the science behind this traditional cooking method. Kids can stand on the other side of the counter and observe the oven in action. \nCooking and Lunchtime: Once the pizzas are topped\, they will be placed in the wood-fired oven by our skilled pizza team. While waiting for the magic to happen\, the children can enjoy a demonstration of the oven’s cooking process. Afterward\, they can collect their freshly cooked pizzas and enjoy the fruits of their labor\, turning lunchtime into a celebration of culinary success.\nWe aren’t leaving adults out\, you! can indulge in the same hand-stretched pizza\, Our mobile pizza stall will be open for regular orders also. \n“Kids in the Kitchen” is more than just a cooking class; it’s an experience that sparks creativity\, instills a sense of accomplishment\, and leaves a lasting appreciation for the art of pizza making. Join us for a slice of delicious fun and culinary exploration! \nA few VERY important points –\nYou must wear closed in shoes! This is for safety reasons and failing to do so will mean you will miss out. If you are booking for other people\, please ensure they are aware of this. \nThe session will begin at the time stated on booking. Please plan to arrive at least 15 min early to allow time for check in\, going to the toilet\, etc. Again\, please ensure everyone in the group is aware of this.
URL:https://foodfairnessillawarra.org.au/event/kids-in-the-kitchen-pizza-making-extravaganza/
LOCATION:Glenbernie Orchard\, 259 Darkes Forest Rd\, Darkes Forest\, NSW\, 2508\, Australia
CATEGORIES:Workshop
END:VEVENT
END:VCALENDAR