BEGIN:VCALENDAR
VERSION:2.0
PRODID:-//Food Fairness Illawarra - ECPv5.16.1.1//NONSGML v1.0//EN
CALSCALE:GREGORIAN
METHOD:PUBLISH
X-WR-CALNAME:Food Fairness Illawarra
X-ORIGINAL-URL:https://foodfairnessillawarra.org.au
X-WR-CALDESC:Events for Food Fairness Illawarra
BEGIN:VTIMEZONE
TZID:Australia/Sydney
BEGIN:STANDARD
TZOFFSETFROM:+1100
TZOFFSETTO:+1000
TZNAME:AEST
DTSTART:20240406T160000
END:STANDARD
BEGIN:DAYLIGHT
TZOFFSETFROM:+1000
TZOFFSETTO:+1100
TZNAME:AEDT
DTSTART:20241005T160000
END:DAYLIGHT
END:VTIMEZONE
BEGIN:VEVENT
DTSTART;TZID=Australia/Sydney:20240114T150000
DTEND;TZID=Australia/Sydney:20240114T190000
DTSTAMP:20260426T130948
CREATED:20231213T021446Z
LAST-MODIFIED:20240109T225047Z
UID:8989-1705244400-1705258800@foodfairnessillawarra.org.au
SUMMARY:FOODTALKS ILLAWARRA—LOCAL FOOD PICNIC!
DESCRIPTION:Connect with community and share delicious local food! \nWHO?\nAnyone interested in the local food system in the Illawarra is welcome to come along! Connect with other local growers\, producers\, advocates\, culture guides\, picklers\, bakers\, retailers\, chefs and home cooks who share a passion for delicious\, fair food in the Illawarra. \nKids welcome\, though as it is a picnic its best not to bring your furry friends. \nThis event is free\, though please RSVP so we have an idea of numbers. And please spread the word 🙂 \nWHAT TO BRING?\nBring a plate of locally sourced food to share—it may be from your garden\, your neighbour’s garden\, a local producer\, or foraged. The idea is for the key components of your dish to be sourced locally. For a comprehensive list of local suppliers go to the Food Fairness Illawarra website. Be ready to share the story of the food you have brought! \nAlso bring a chair or picnic rug\, crockery and cutlery for your group. \nWe have a small amount of funding from Wollongong City Council (thank you!) which will be used to purchase some delicious bread from Millers’ Local Bakehouse\, fresh produce from Popes Produces\, condiments from South Coast Kimchi Co and ethically sourced meat from Cleaver & Co Quality Meats. This will help complement the food that everyone brings 🙂 \nWHERE?\nSandon Point parkland\, Bulli—the area south of the carpark under the large Norfolk Island Pine trees overlooking Sandon Point Beach. We’ll have a couple of marquees and trestle tables set up. \nWHEN?\nSunday 14th January\, 3pm – 7pm.
URL:https://foodfairnessillawarra.org.au/event/foodtalks-illawarra-local-food-picnic/
LOCATION:Sandon Point Bulli\, NSW 2516 Australia
ATTACH;FMTTYPE=image/png:https://foodfairnessillawarra.org.au/wp-content/uploads/2023/12/Screen-Shot-2024-01-10-at-9.49.55-am.png
END:VEVENT
END:VCALENDAR